BEGIN:VCALENDAR
VERSION:2.0
PRODID:-//Tukios.com/
BEGIN:VEVENT
UID:6b64a4b5-6c58-4ee6-9ee0-dcd334793a8d@www.malesichandshirey.com
DTSTAMP:20260421T175559Z
DTSTART:20260423T200000Z
DTEND:20260423T230000Z
SUMMARY:Memorial Service
DESCRIPTION:Reception to follow
URL:https://www.malesichandshirey.com/obituaries/david-martinez
LOCATION: 7530 West 38th Avenue  Wheat Ridge CO 80033
GEO:39.7688585;-105.0802279
END:VEVENT
END:VCALENDAR